BEGIN:VCALENDAR
VERSION:2.0
PRODID:-//Sumner Street Shea - ECPv6.15.20//NONSGML v1.0//EN
CALSCALE:GREGORIAN
METHOD:PUBLISH
X-WR-CALNAME:Sumner Street Shea
X-ORIGINAL-URL:https://sumnerstreetshea.com
X-WR-CALDESC:Events for Sumner Street Shea
REFRESH-INTERVAL;VALUE=DURATION:PT1H
X-Robots-Tag:noindex
X-PUBLISHED-TTL:PT1H
BEGIN:VTIMEZONE
TZID:UTC
BEGIN:STANDARD
TZOFFSETFROM:+0000
TZOFFSETTO:+0000
TZNAME:UTC
DTSTART:20230101T000000
END:STANDARD
END:VTIMEZONE
BEGIN:VEVENT
DTSTART;TZID=UTC:20240421T110000
DTEND;TZID=UTC:20240421T170000
DTSTAMP:20260425T034434
CREATED:20240409T174230Z
LAST-MODIFIED:20240409T174230Z
UID:5953-1713697200-1713718800@sumnerstreetshea.com
SUMMARY:The Flipside Vegan Market
DESCRIPTION:
URL:https://sumnerstreetshea.com/event/the-flipside-vegan-market/
LOCATION:Flipside\, 6550 N Interstate Ave\, Portland\, OR\, United States
CATEGORIES:Free,Pop Up
ATTACH;FMTTYPE=image/jpeg:https://sumnerstreetshea.com/wp-content/uploads/2024/04/IMG_2285.jpg
END:VEVENT
END:VCALENDAR