BEGIN:VCALENDAR
VERSION:2.0
PRODID:-//Sumner Street Shea - ECPv6.15.20//NONSGML v1.0//EN
CALSCALE:GREGORIAN
METHOD:PUBLISH
X-WR-CALNAME:Sumner Street Shea
X-ORIGINAL-URL:https://sumnerstreetshea.com
X-WR-CALDESC:Events for Sumner Street Shea
REFRESH-INTERVAL;VALUE=DURATION:PT1H
X-Robots-Tag:noindex
X-PUBLISHED-TTL:PT1H
BEGIN:VTIMEZONE
TZID:UTC
BEGIN:STANDARD
TZOFFSETFROM:+0000
TZOFFSETTO:+0000
TZNAME:UTC
DTSTART:20220101T000000
END:STANDARD
END:VTIMEZONE
BEGIN:VEVENT
DTSTART;TZID=UTC:20230805T100000
DTEND;TZID=UTC:20230805T160000
DTSTAMP:20260425T134447
CREATED:20230801T224354Z
LAST-MODIFIED:20230801T224355Z
UID:5668-1691229600-1691251200@sumnerstreetshea.com
SUMMARY:Fremont Fest Marketplace
DESCRIPTION:Join us on Saturday August 5th from 10am-4pm at Fremont Fest!! The market will take place between NE 42nd-51st Ave.
URL:https://sumnerstreetshea.com/event/fremont-fest-marketplace/
LOCATION:Beaumont Market\, 4130 NE Fremont Ave\, Portland\, OR\, United States
CATEGORIES:Free,Pop Up
ATTACH;FMTTYPE=image/jpeg:https://sumnerstreetshea.com/wp-content/uploads/2023/08/IMG_8037.jpeg
END:VEVENT
END:VCALENDAR