BEGIN:VCALENDAR
VERSION:2.0
PRODID:-//Sumner Street Shea - ECPv6.15.20//NONSGML v1.0//EN
CALSCALE:GREGORIAN
METHOD:PUBLISH
X-ORIGINAL-URL:https://sumnerstreetshea.com
X-WR-CALDESC:Events for Sumner Street Shea
REFRESH-INTERVAL;VALUE=DURATION:PT1H
X-Robots-Tag:noindex
X-PUBLISHED-TTL:PT1H
BEGIN:VTIMEZONE
TZID:UTC
BEGIN:STANDARD
TZOFFSETFROM:+0000
TZOFFSETTO:+0000
TZNAME:UTC
DTSTART:20220101T000000
END:STANDARD
END:VTIMEZONE
BEGIN:VEVENT
DTSTART;TZID=UTC:20230630T160000
DTEND;TZID=UTC:20230630T200000
DTSTAMP:20260425T151401
CREATED:20230627T002838Z
LAST-MODIFIED:20230627T002839Z
UID:5640-1688140800-1688155200@sumnerstreetshea.com
SUMMARY:Last Friday at Triskelee Farms
DESCRIPTION:Join us at Triskelee Farms this Friday\, June 30 from 4-8pm! \nLast Friday at Triskelee Farm happens on the last Friday of each month from May to September. There are local vendors\, small animals\, food and activities to enjoy!
URL:https://sumnerstreetshea.com/event/last-friday-at-triskelee-farms/
LOCATION:Triskelee Farms\, 29700 SW Mountain Rd\, West Linn\, OR\, United States
CATEGORIES:Free,Pop Up
ATTACH;FMTTYPE=image/jpeg:https://sumnerstreetshea.com/wp-content/uploads/2023/06/IMG_7371.jpeg
END:VEVENT
END:VCALENDAR