BEGIN:VCALENDAR
VERSION:2.0
PRODID:-//Sumner Street Shea - ECPv6.15.20//NONSGML v1.0//EN
CALSCALE:GREGORIAN
METHOD:PUBLISH
X-ORIGINAL-URL:https://sumnerstreetshea.com
X-WR-CALDESC:Events for Sumner Street Shea
REFRESH-INTERVAL;VALUE=DURATION:PT1H
X-Robots-Tag:noindex
X-PUBLISHED-TTL:PT1H
BEGIN:VTIMEZONE
TZID:UTC
BEGIN:STANDARD
TZOFFSETFROM:+0000
TZOFFSETTO:+0000
TZNAME:UTC
DTSTART:20220101T000000
END:STANDARD
END:VTIMEZONE
BEGIN:VEVENT
DTSTART;TZID=UTC:20230629T180000
DTEND;TZID=UTC:20230629T210000
DTSTAMP:20260425T151401
CREATED:20230627T002158Z
LAST-MODIFIED:20230627T002201Z
UID:5635-1688061600-1688072400@sumnerstreetshea.com
SUMMARY:June Last Thursday on Alberta
DESCRIPTION:Come join us in the Alberta Arts district in NE Portland for Last Thursday! Last Thursday is a free local small business market that happens on the last Thursday of the months starting from June to September. \nThe event is from NE 15th through NE 30th on Alberta. We’ll be there from 6-9pm.
URL:https://sumnerstreetshea.com/event/june-last-thursday-on-alberta/
LOCATION:Alberta Cooperative Grocery\, 1500 NE Alberta St\, Portland\, 97211\, United States
CATEGORIES:Free,Pop Up
END:VEVENT
END:VCALENDAR