BEGIN:VCALENDAR
VERSION:2.0
PRODID:-//Sumner Street Shea - ECPv6.15.20//NONSGML v1.0//EN
CALSCALE:GREGORIAN
METHOD:PUBLISH
X-WR-CALNAME:Sumner Street Shea
X-ORIGINAL-URL:https://sumnerstreetshea.com
X-WR-CALDESC:Events for Sumner Street Shea
REFRESH-INTERVAL;VALUE=DURATION:PT1H
X-Robots-Tag:noindex
X-PUBLISHED-TTL:PT1H
BEGIN:VTIMEZONE
TZID:UTC
BEGIN:STANDARD
TZOFFSETFROM:+0000
TZOFFSETTO:+0000
TZNAME:UTC
DTSTART:20220101T000000
END:STANDARD
END:VTIMEZONE
BEGIN:VEVENT
DTSTART;TZID=UTC:20230611T120000
DTEND;TZID=UTC:20230611T180000
DTSTAMP:20260425T162448
CREATED:20230523T192154Z
LAST-MODIFIED:20230523T192155Z
UID:5604-1686484800-1686506400@sumnerstreetshea.com
SUMMARY:Alberta Street Fair
DESCRIPTION:The annual Alberta Street Fair offers three blocks of vendors\, crafts\, artists\, live music\, farm fresh produce\, and hot foods.\nShop for unique hand-made items\, listen to local music\, and taste the offerings from local food producers at this lively street fair. \nAlberta Street Fair will be on NE 13th-15th Ave on Alberta St. \n  \n 
URL:https://sumnerstreetshea.com/event/alberta-street-fair/
LOCATION:Celebrate Portland\, Portland\, OR\, 97211\, United States
CATEGORIES:Free,Pop Up
ATTACH;FMTTYPE=image/jpeg:https://sumnerstreetshea.com/wp-content/uploads/2023/05/IMG_6580.jpg
END:VEVENT
END:VCALENDAR