BEGIN:VCALENDAR
VERSION:2.0
PRODID:-//Sumner Street Shea - ECPv6.15.20//NONSGML v1.0//EN
CALSCALE:GREGORIAN
METHOD:PUBLISH
X-WR-CALNAME:Sumner Street Shea
X-ORIGINAL-URL:https://sumnerstreetshea.com
X-WR-CALDESC:Events for Sumner Street Shea
REFRESH-INTERVAL;VALUE=DURATION:PT1H
X-Robots-Tag:noindex
X-PUBLISHED-TTL:PT1H
BEGIN:VTIMEZONE
TZID:UTC
BEGIN:STANDARD
TZOFFSETFROM:+0000
TZOFFSETTO:+0000
TZNAME:UTC
DTSTART:20230101T000000
END:STANDARD
END:VTIMEZONE
BEGIN:VEVENT
DTSTART;TZID=UTC:20240502T170000
DTEND;TZID=UTC:20240502T200000
DTSTAMP:20260425T011820
CREATED:20240415T162547Z
LAST-MODIFIED:20240415T162547Z
UID:5960-1714669200-1714680000@sumnerstreetshea.com
SUMMARY:Spring Is Sprung Market
DESCRIPTION:
URL:https://sumnerstreetshea.com/event/spring-is-sprung-market/
LOCATION:Fancy Banana\, 2300 SE 7th Ave\, Portland\, OR\, United States
CATEGORIES:Free,Pop Up
ATTACH;FMTTYPE=image/png:https://sumnerstreetshea.com/wp-content/uploads/2024/04/SPRING_is_SPRUNG_IGsquare1.png
END:VEVENT
BEGIN:VEVENT
DTSTART;TZID=UTC:20240511T160000
DTEND;TZID=UTC:20240511T200000
DTSTAMP:20260425T011820
CREATED:20240511T033059Z
LAST-MODIFIED:20240511T033059Z
UID:5987-1715443200-1715457600@sumnerstreetshea.com
SUMMARY:White Owl Sip & Shop
DESCRIPTION:
URL:https://sumnerstreetshea.com/event/white-owl-sip-shop/
LOCATION:White Owl Social Club\, 1305 SE 8th Ave\, Portland\, OR\, United States
CATEGORIES:Bar Hop,Free,Pop Up
END:VEVENT
END:VCALENDAR