BEGIN:VCALENDAR
VERSION:2.0
PRODID:-//Sumner Street Shea - ECPv6.15.20//NONSGML v1.0//EN
CALSCALE:GREGORIAN
METHOD:PUBLISH
X-ORIGINAL-URL:https://sumnerstreetshea.com
X-WR-CALDESC:Events for Sumner Street Shea
REFRESH-INTERVAL;VALUE=DURATION:PT1H
X-Robots-Tag:noindex
X-PUBLISHED-TTL:PT1H
BEGIN:VTIMEZONE
TZID:UTC
BEGIN:STANDARD
TZOFFSETFROM:+0000
TZOFFSETTO:+0000
TZNAME:UTC
DTSTART:20230101T000000
END:STANDARD
END:VTIMEZONE
BEGIN:VEVENT
DTSTART;TZID=UTC:20240406T110000
DTEND;TZID=UTC:20240406T160000
DTSTAMP:20260425T023250
CREATED:20240409T172227Z
LAST-MODIFIED:20240409T172227Z
UID:5939-1712401200-1712419200@sumnerstreetshea.com
SUMMARY:Portland Tastemakers Market
DESCRIPTION:
URL:https://sumnerstreetshea.com/event/portland-tastemakers-market/
LOCATION:El Nutri Taco\, 2124 NE Alberta St\, Portland\, OR\, United States
CATEGORIES:Free,Pop Up
END:VEVENT
BEGIN:VEVENT
DTSTART;TZID=UTC:20240412T180000
DTEND;TZID=UTC:20240412T220000
DTSTAMP:20260425T023250
CREATED:20240409T172831Z
LAST-MODIFIED:20240409T172831Z
UID:5943-1712944800-1712959200@sumnerstreetshea.com
SUMMARY:The Finds Vintage Market: The Pop Up Shop and Party
DESCRIPTION:
URL:https://sumnerstreetshea.com/event/the-finds-vintage-market-the-pop-up-shop-and-party/
LOCATION:L’Atelier Yaffe\, 111 NE MLK BLVD\, Portland\, OR\, United States
CATEGORIES:Free,Pop Up
ATTACH;FMTTYPE=image/jpeg:https://sumnerstreetshea.com/wp-content/uploads/2024/04/3FBC5CA7-1B4B-4954-9847-43CF4218B0EC.jpg
END:VEVENT
BEGIN:VEVENT
DTSTART;TZID=UTC:20240413T090000
DTEND;TZID=UTC:20240413T160000
DTSTAMP:20260425T023250
CREATED:20240409T173406Z
LAST-MODIFIED:20240409T173406Z
UID:5948-1712998800-1713024000@sumnerstreetshea.com
SUMMARY:OCHS Spring Wrestling Bazaar
DESCRIPTION:Join us at Oregon City High School to support the Wrestling team! We’ll be there from 9-4 pm on Saturday\, April 12.
URL:https://sumnerstreetshea.com/event/ochs-spring-wrestling-bazaar/
LOCATION:Oregon City High School\, 19761 S Beavercreek Rd\, Oregon City\, OR\, United States
CATEGORIES:Free,Pop Up
END:VEVENT
BEGIN:VEVENT
DTSTART;TZID=UTC:20240420T110000
DTEND;TZID=UTC:20240420T170000
DTSTAMP:20260425T023250
CREATED:20240409T173742Z
LAST-MODIFIED:20240412T030001Z
UID:5950-1713610800-1713632400@sumnerstreetshea.com
SUMMARY:Bring in the Spring Craft Market
DESCRIPTION:Meet us at Clackamas Community College for the Bring in the Spring Craft Market on Saturday\, April 20! We’ll be there from 11-5pm. \nFind us on campus at the Gregory Forum.
URL:https://sumnerstreetshea.com/event/bring-in-the-spring-craft-fair/
LOCATION:Clackamas Community College\, 19600 Mollala Ave\, Oregon City\, OR\, 97045\, United States
CATEGORIES:Free,Pop Up
ATTACH;FMTTYPE=application/pdf:https://sumnerstreetshea.com/wp-content/uploads/2024/04/Bring-the-Sprinfg.pdf
END:VEVENT
BEGIN:VEVENT
DTSTART;TZID=UTC:20240421T110000
DTEND;TZID=UTC:20240421T170000
DTSTAMP:20260425T023250
CREATED:20240409T174230Z
LAST-MODIFIED:20240409T174230Z
UID:5953-1713697200-1713718800@sumnerstreetshea.com
SUMMARY:The Flipside Vegan Market
DESCRIPTION:
URL:https://sumnerstreetshea.com/event/the-flipside-vegan-market/
LOCATION:Flipside\, 6550 N Interstate Ave\, Portland\, OR\, United States
CATEGORIES:Free,Pop Up
ATTACH;FMTTYPE=image/jpeg:https://sumnerstreetshea.com/wp-content/uploads/2024/04/IMG_2285.jpg
END:VEVENT
END:VCALENDAR