BEGIN:VCALENDAR
VERSION:2.0
PRODID:-//Sumner Street Shea - ECPv6.15.20//NONSGML v1.0//EN
CALSCALE:GREGORIAN
METHOD:PUBLISH
X-ORIGINAL-URL:https://sumnerstreetshea.com
X-WR-CALDESC:Events for Sumner Street Shea
REFRESH-INTERVAL;VALUE=DURATION:PT1H
X-Robots-Tag:noindex
X-PUBLISHED-TTL:PT1H
BEGIN:VTIMEZONE
TZID:UTC
BEGIN:STANDARD
TZOFFSETFROM:+0000
TZOFFSETTO:+0000
TZNAME:UTC
DTSTART:20220101T000000
END:STANDARD
END:VTIMEZONE
BEGIN:VEVENT
DTSTART;TZID=UTC:20230723T140000
DTEND;TZID=UTC:20230723T190000
DTSTAMP:20260425T134448
CREATED:20230630T172048Z
LAST-MODIFIED:20230630T172049Z
UID:5645-1690120800-1690138800@sumnerstreetshea.com
SUMMARY:Flipside Vegan Market
DESCRIPTION:Come join us at The Flipside Vegan Market featuring tattoos\, local makers\, vegan food\, music and more!
URL:https://sumnerstreetshea.com/event/flipside-vegan-market/
LOCATION:Flipside\, 6550 N Interstate Ave\, Portland\, OR\, United States
CATEGORIES:Free,Pop Up
ATTACH;FMTTYPE=image/jpeg:https://sumnerstreetshea.com/wp-content/uploads/2023/06/flipside.jpg
END:VEVENT
BEGIN:VEVENT
DTSTART;TZID=UTC:20230727T180000
DTEND;TZID=UTC:20230727T210000
DTSTAMP:20260425T134448
CREATED:20230630T172329Z
LAST-MODIFIED:20230630T172329Z
UID:5649-1690480800-1690491600@sumnerstreetshea.com
SUMMARY:July Last Thursday on Alberta
DESCRIPTION:July 27th from 6-9pm!
URL:https://sumnerstreetshea.com/event/july-last-thursday-on-alberta/
LOCATION:Alberta Cooperative Grocery\, 1500 NE Alberta St\, Portland\, 97211\, United States
CATEGORIES:Free,Pop Up
END:VEVENT
BEGIN:VEVENT
DTSTART;TZID=UTC:20230730T120000
DTEND;TZID=UTC:20230730T190000
DTSTAMP:20260425T134448
CREATED:20230702T174956Z
LAST-MODIFIED:20230702T175122Z
UID:5651-1690718400-1690743600@sumnerstreetshea.com
SUMMARY:PDX Black Collective Cultural Market
DESCRIPTION:Join us at Oregon Contemporary with 50 vendors and 4 DJs to support small BIPOC local businesses! We’ll be there from 12-7pm.
URL:https://sumnerstreetshea.com/event/pdx-black-collective-cultural-market/
LOCATION:Oregon Contemporary\, 8371 N Interstate Ave\, Portland\, OR\, United States
CATEGORIES:Free,Pop Up
ATTACH;FMTTYPE=image/jpeg:https://sumnerstreetshea.com/wp-content/uploads/2023/07/IMG_7431.jpeg
END:VEVENT
END:VCALENDAR