BEGIN:VCALENDAR
VERSION:2.0
PRODID:-//Sumner Street Shea - ECPv6.15.20//NONSGML v1.0//EN
CALSCALE:GREGORIAN
METHOD:PUBLISH
X-WR-CALNAME:Sumner Street Shea
X-ORIGINAL-URL:https://sumnerstreetshea.com
X-WR-CALDESC:Events for Sumner Street Shea
REFRESH-INTERVAL;VALUE=DURATION:PT1H
X-Robots-Tag:noindex
X-PUBLISHED-TTL:PT1H
BEGIN:VTIMEZONE
TZID:UTC
BEGIN:STANDARD
TZOFFSETFROM:+0000
TZOFFSETTO:+0000
TZNAME:UTC
DTSTART:20230101T000000
END:STANDARD
END:VTIMEZONE
BEGIN:VEVENT
DTSTART;TZID=UTC:20240803T100000
DTEND;TZID=UTC:20240803T160000
DTSTAMP:20260425T160126
CREATED:20240801T194010Z
LAST-MODIFIED:20240801T202326Z
UID:6507-1722679200-1722700800@sumnerstreetshea.com
SUMMARY:Fremont Fest Marketplace: 40th Anniversary Celebration
DESCRIPTION:
URL:https://sumnerstreetshea.com/event/fremont-fest-marketplace-40th-anniversary-celebration/
LOCATION:Sylvan Learning Center- North/NE Portland\, 4300 NE Fremont St\, Portland\, OR\, 97213\, United States
CATEGORIES:Free,Pop Up
ATTACH;FMTTYPE=image/jpeg:https://sumnerstreetshea.com/wp-content/uploads/2024/08/IMG_3686-copy.jpg
END:VEVENT
BEGIN:VEVENT
DTSTART;TZID=UTC:20240804T140000
DTEND;TZID=UTC:20240804T180000
DTSTAMP:20260425T160126
CREATED:20240801T194214Z
LAST-MODIFIED:20240801T202219Z
UID:6510-1722780000-1722794400@sumnerstreetshea.com
SUMMARY:Makers Market
DESCRIPTION:
URL:https://sumnerstreetshea.com/event/makers-market/
LOCATION:Blank Slate Bar\, 7201 NE Glisan St\, Portland\, 97213\, United States
CATEGORIES:Bar Hop,Free,Pop Up
ATTACH;FMTTYPE=image/jpeg:https://sumnerstreetshea.com/wp-content/uploads/2024/08/IMG_3677-copy.jpg
END:VEVENT
BEGIN:VEVENT
DTSTART;TZID=UTC:20240810T150000
DTEND;TZID=UTC:20240810T190000
DTSTAMP:20260425T160126
CREATED:20240801T194420Z
LAST-MODIFIED:20240801T201954Z
UID:6514-1723302000-1723316400@sumnerstreetshea.com
SUMMARY:Leikam Brewing 10th Anniversary Celebration
DESCRIPTION:
URL:https://sumnerstreetshea.com/event/leikam-brewing-10th-anniversary-celebration/
LOCATION:Leikam Brewing\, 5812 E Burnside St\, Portland\, OR\, 97215\, United States
CATEGORIES:Bar Hop,Free,Pop Up
ATTACH;FMTTYPE=image/jpeg:https://sumnerstreetshea.com/wp-content/uploads/2024/08/IMG_3685-copy.jpg
END:VEVENT
BEGIN:VEVENT
DTSTART;TZID=UTC:20240829T180000
DTEND;TZID=UTC:20240829T210000
DTSTAMP:20260425T160126
CREATED:20240801T194658Z
LAST-MODIFIED:20240801T201750Z
UID:6518-1724954400-1724965200@sumnerstreetshea.com
SUMMARY:August Last Thursday on Alberta
DESCRIPTION:Meet us in Portland in the Alberta Arts District between NE 15th through NE 30th Ave for Last Thursday.
URL:https://sumnerstreetshea.com/event/august-last-thursday-on-alberta/
LOCATION:Alberta Cooperative Grocery\, 1500 NE Alberta St\, Portland\, 97211\, United States
CATEGORIES:Free,Pop Up
ATTACH;FMTTYPE=image/jpeg:https://sumnerstreetshea.com/wp-content/uploads/2024/08/IMG_1208.jpg
END:VEVENT
BEGIN:VEVENT
DTSTART;TZID=UTC:20240831T150000
DTEND;TZID=UTC:20240831T210000
DTSTAMP:20260425T160126
CREATED:20240801T195856Z
LAST-MODIFIED:20240801T201142Z
UID:6520-1725116400-1725138000@sumnerstreetshea.com
SUMMARY:5th Annual BIPOC Market
DESCRIPTION:
URL:https://sumnerstreetshea.com/event/5th-annual-bipoc-market/
LOCATION:Mac Market\, 1140 NE Alpine Ave\, McMinnville\, OR\, 97128\, United States
CATEGORIES:Free,Pop Up
ATTACH;FMTTYPE=image/jpeg:https://sumnerstreetshea.com/wp-content/uploads/2024/08/IMG_3684-copy.jpg
END:VEVENT
BEGIN:VEVENT
DTSTART;TZID=UTC:20241026T090000
DTEND;TZID=UTC:20241026T160000
DTSTAMP:20260425T160126
CREATED:20241024T195352Z
LAST-MODIFIED:20241024T195353Z
UID:6576-1729933200-1729958400@sumnerstreetshea.com
SUMMARY:Gladstone Holiday Bazaar
DESCRIPTION:
URL:https://sumnerstreetshea.com/event/gladstone-holiday-bazaar/
LOCATION:Gladstone High School\, 18800 Portland Ave\, Gladstone\, OR\, 97027\, United States
CATEGORIES:Free,Pop Up
ATTACH;FMTTYPE=image/jpeg:https://sumnerstreetshea.com/wp-content/uploads/2024/10/GLADSTONE-BAZAAR.jpg
END:VEVENT
BEGIN:VEVENT
DTSTART;TZID=UTC:20241105T073000
DTEND;TZID=UTC:20241105T130000
DTSTAMP:20260425T160126
CREATED:20241024T194931Z
LAST-MODIFIED:20241024T194932Z
UID:6571-1730791800-1730811600@sumnerstreetshea.com
SUMMARY:2024 Health & Wellness Fair
DESCRIPTION:
URL:https://sumnerstreetshea.com/event/2024-health-wellness-fair/
LOCATION:Advantis Credit Union\, 14405 Meyers Road\, Oregon City\, OR\, 97045\, United States
CATEGORIES:Free,Pop Up
ATTACH;FMTTYPE=image/png:https://sumnerstreetshea.com/wp-content/uploads/2024/10/image002.png
END:VEVENT
BEGIN:VEVENT
DTSTART;TZID=UTC:20241116T090000
DTEND;TZID=UTC:20241116T160000
DTSTAMP:20260425T160126
CREATED:20241024T193011Z
LAST-MODIFIED:20241024T193012Z
UID:6566-1731747600-1731772800@sumnerstreetshea.com
SUMMARY:2024 Milwaukie High School Holiday Bazaar
DESCRIPTION:
URL:https://sumnerstreetshea.com/event/2024-milwaukie-high-school-holiday-bazaar/
LOCATION:Milwaukie High School\, 2301 SE Willard St\, Milwaukie\, OR\, 97222\, United States
CATEGORIES:Free,Pop Up
ATTACH;FMTTYPE=image/png:https://sumnerstreetshea.com/wp-content/uploads/2024/10/2024-Holiday-Bazaar-Flyer.png
END:VEVENT
BEGIN:VEVENT
DTSTART;TZID=UTC:20241207T100000
DTEND;TZID=UTC:20241207T160000
DTSTAMP:20260425T160126
CREATED:20241203T190738Z
LAST-MODIFIED:20241203T190738Z
UID:6601-1733565600-1733587200@sumnerstreetshea.com
SUMMARY:2nd Annual Mountainside High School Winter Market
DESCRIPTION:
URL:https://sumnerstreetshea.com/event/2nd-annual-mountainside-high-school-winter-market/
LOCATION:Mountainside High School\, 12500 SW 175th Ave\, Beaverton\, OR\, 97007\, United States
CATEGORIES:Free,Pop Up
ATTACH;FMTTYPE=application/pdf:https://sumnerstreetshea.com/wp-content/uploads/2024/12/MountainsideWMP.pdf
END:VEVENT
BEGIN:VEVENT
DTSTART;TZID=UTC:20241208T130000
DTEND;TZID=UTC:20241208T170000
DTSTAMP:20260425T160126
CREATED:20241203T191144Z
LAST-MODIFIED:20241203T191144Z
UID:6604-1733662800-1733677200@sumnerstreetshea.com
SUMMARY:NW Portland Makers Market & Bar Hop
DESCRIPTION:Meet us at Great Notion Brewing on Sunday\, December 8 from 1-5 pm to get a headstart on holiday shopping!
URL:https://sumnerstreetshea.com/event/nw-portland-makers-market-bar-hop/
LOCATION:Great Notion Brewing\, 2444 NW 28th Ave\, Portland\, OR\, 97210\, United States
CATEGORIES:Bar Hop,Free,Pop Up
ATTACH;FMTTYPE=image/jpeg:https://sumnerstreetshea.com/wp-content/uploads/2024/12/Portland-93-copy.jpg
END:VEVENT
BEGIN:VEVENT
DTSTART;TZID=UTC:20241214T120000
DTEND;TZID=UTC:20241214T170000
DTSTAMP:20260425T160126
CREATED:20241203T191459Z
LAST-MODIFIED:20241203T191459Z
UID:6607-1734177600-1734195600@sumnerstreetshea.com
SUMMARY:Gigantic Brewing Company: Holiday Market
DESCRIPTION:Join us at Gigantic Brewing Company for their holiday market! We’ll be there from 12-5pm\, 21+ with ID.
URL:https://sumnerstreetshea.com/event/gigantic-brewing-company-holiday-market/
LOCATION:Gigantic Brewing Company\, 5224 SE 26th Ave\, Portland\, OR\, United States
CATEGORIES:Bar Hop,Free
ATTACH;FMTTYPE=image/png:https://sumnerstreetshea.com/wp-content/uploads/2024/12/Gigantic_SocialMedia2024HolidayMarketImage.png
END:VEVENT
BEGIN:VEVENT
DTSTART;TZID=UTC:20260411T100000
DTEND;TZID=UTC:20260411T160000
DTSTAMP:20260425T160126
CREATED:20260403T191511Z
LAST-MODIFIED:20260403T191511Z
UID:8057-1775901600-1775923200@sumnerstreetshea.com
SUMMARY:Mountainside High School Spring Market
DESCRIPTION:Meet us on Saturday\, April 11 from 10-4 at Mountainside High School!
URL:https://sumnerstreetshea.com/event/mountainside-high-school-spring-market/
LOCATION:Mountainside High School\, 12500 SW 175th Ave\, Beaverton\, OR\, 97007\, United States
CATEGORIES:Free,Pop Up
ATTACH;FMTTYPE=image/jpeg:https://sumnerstreetshea.com/wp-content/uploads/2026/04/IMG_8880.jpeg
END:VEVENT
END:VCALENDAR