BEGIN:VCALENDAR
VERSION:2.0
PRODID:-//Sumner Street Shea - ECPv6.15.20//NONSGML v1.0//EN
CALSCALE:GREGORIAN
METHOD:PUBLISH
X-WR-CALNAME:Sumner Street Shea
X-ORIGINAL-URL:https://sumnerstreetshea.com
X-WR-CALDESC:Events for Sumner Street Shea
REFRESH-INTERVAL;VALUE=DURATION:PT1H
X-Robots-Tag:noindex
X-PUBLISHED-TTL:PT1H
BEGIN:VTIMEZONE
TZID:UTC
BEGIN:STANDARD
TZOFFSETFROM:+0000
TZOFFSETTO:+0000
TZNAME:UTC
DTSTART:20230101T000000
END:STANDARD
END:VTIMEZONE
BEGIN:VEVENT
DTSTART;TZID=UTC:20240203T140000
DTEND;TZID=UTC:20240203T163000
DTSTAMP:20260425T104323
CREATED:20240201T183244Z
LAST-MODIFIED:20240201T183336Z
UID:5881-1706968800-1706977800@sumnerstreetshea.com
SUMMARY:34th Annual Cascade Festival of African Films
DESCRIPTION:Join us at PCC Cascade to watch “Catching Feelings” a South African film on Saturday\, February 3 at 2:00pm. This film will be held in the Moriarty Auditorium room 104! This is a matinee viewing during the 34th Annual Cascade Festival of African Films celebrating Black History Month. \nDescription: \nSouth Africa\n2017\, 124 min  \nThe multi-talented South African director Kagiso Lediga wrote\, directed\, and acted in this hilariously irreverent romantic comedy. The story follows an urban young academic and his beautiful wife. Their lives get turned upside down when a celebrated and scandalous older writer moves into their Johannesburg home with them. \nOur table will be set up in the lobby of Moriarty before and after the film.
URL:https://sumnerstreetshea.com/event/34th-annual-cascade-festival-of-african-films/
LOCATION:Portland Community College\, 705 N Killingsworth St\, Portland\, OR\, United States
CATEGORIES:Free,Pop Up
END:VEVENT
END:VCALENDAR