BEGIN:VCALENDAR
VERSION:2.0
PRODID:-//Sumner Street Shea - ECPv6.15.20//NONSGML v1.0//EN
CALSCALE:GREGORIAN
METHOD:PUBLISH
X-ORIGINAL-URL:https://sumnerstreetshea.com
X-WR-CALDESC:Events for Sumner Street Shea
REFRESH-INTERVAL;VALUE=DURATION:PT1H
X-Robots-Tag:noindex
X-PUBLISHED-TTL:PT1H
BEGIN:VTIMEZONE
TZID:UTC
BEGIN:STANDARD
TZOFFSETFROM:+0000
TZOFFSETTO:+0000
TZNAME:UTC
DTSTART:20220101T000000
END:STANDARD
END:VTIMEZONE
BEGIN:VEVENT
DTSTART;TZID=UTC:20231110T170000
DTEND;TZID=UTC:20231110T213000
DTSTAMP:20260425T150038
CREATED:20231102T192736Z
LAST-MODIFIED:20231102T192737Z
UID:5804-1699635600-1699651800@sumnerstreetshea.com
SUMMARY:Cezzie's Chews Night Farmers Market
DESCRIPTION:Meet us in Downtown Portland from 5-9:30pm at The Collective on 4th in the main lobby!
URL:https://sumnerstreetshea.com/event/cezzies-chews-night-farmers-market/
LOCATION:The Collective\, 1818 SW 4th Ave\, Portland\, OR\, 97201\, United States
CATEGORIES:Free,Pop Up
END:VEVENT
END:VCALENDAR