BEGIN:VCALENDAR
VERSION:2.0
PRODID:-//Sumner Street Shea - ECPv6.15.20//NONSGML v1.0//EN
CALSCALE:GREGORIAN
METHOD:PUBLISH
X-ORIGINAL-URL:https://sumnerstreetshea.com
X-WR-CALDESC:Events for Sumner Street Shea
REFRESH-INTERVAL;VALUE=DURATION:PT1H
X-Robots-Tag:noindex
X-PUBLISHED-TTL:PT1H
BEGIN:VTIMEZONE
TZID:UTC
BEGIN:STANDARD
TZOFFSETFROM:+0000
TZOFFSETTO:+0000
TZNAME:UTC
DTSTART:20220101T000000
END:STANDARD
END:VTIMEZONE
BEGIN:VEVENT
DTSTART;TZID=UTC:20230422T110000
DTEND;TZID=UTC:20230422T160000
DTSTAMP:20260426T000233
CREATED:20230407T231352Z
LAST-MODIFIED:20230407T231540Z
UID:5499-1682161200-1682179200@sumnerstreetshea.com
SUMMARY:Earth Day Market
DESCRIPTION:Shop local\, sustainable\, and eco-friendly at Triskelee Farm for their Earth Day Market! This is a kid-friendly event with food and drinks\, crafts\, and baby animals. \nJoin us from 11-4pm!
URL:https://sumnerstreetshea.com/event/earth-day-market/
LOCATION:Triskelee Farms\, 29700 SW Mountain Rd\, West Linn\, OR\, United States
CATEGORIES:Free,Pop Up
ATTACH;FMTTYPE=image/jpeg:https://sumnerstreetshea.com/wp-content/uploads/2023/04/IMG_5989.jpg
END:VEVENT
END:VCALENDAR