BEGIN:VCALENDAR
VERSION:2.0
PRODID:-//Sumner Street Shea - ECPv6.15.20//NONSGML v1.0//EN
CALSCALE:GREGORIAN
METHOD:PUBLISH
X-ORIGINAL-URL:https://sumnerstreetshea.com
X-WR-CALDESC:Events for Sumner Street Shea
REFRESH-INTERVAL;VALUE=DURATION:PT1H
X-Robots-Tag:noindex
X-PUBLISHED-TTL:PT1H
BEGIN:VTIMEZONE
TZID:UTC
BEGIN:STANDARD
TZOFFSETFROM:+0000
TZOFFSETTO:+0000
TZNAME:UTC
DTSTART:20220101T000000
END:STANDARD
END:VTIMEZONE
BEGIN:VEVENT
DTSTART;TZID=UTC:20231202T100000
DTEND;TZID=UTC:20231202T160000
DTSTAMP:20260425T120234
CREATED:20231201T180943Z
LAST-MODIFIED:20231201T180944Z
UID:5819-1701511200-1701532800@sumnerstreetshea.com
SUMMARY:Mountainside High School Winter Market
DESCRIPTION:Join us on Saturday\, December 2 from 10-3 pm at Mountainside High School! This is our first time participating in their Holiday Winter Market and we’re excited! There will be over 100 local vendors with an assortment of items perfect for your holiday shopping!\n\nThis market will also support homeless youth in the Beaverton School District! There will be a hygiene drive so please bring the following items:\n\n\nToothbrushes\, toothpaste\, mouthwash\, dental floss\nRazors\, shaving cream\, facial cream\nShampoo\, conditioner\nCombs\, brushes\nBody wash\, soap\, deodorant\nNail clippers and sanitary pads\n\nSee you there!
URL:https://sumnerstreetshea.com/event/mountainside-high-school-winter-market/
LOCATION:Mountainside High School\, 12500 SW 175th Ave\, Beaverton\, OR\, 97007\, United States
CATEGORIES:Free,Pop Up
ATTACH;FMTTYPE=image/png:https://sumnerstreetshea.com/wp-content/uploads/2023/12/Winter-Market-Vertical-FINAL-v2.png
END:VEVENT
BEGIN:VEVENT
DTSTART;TZID=UTC:20231203T160000
DTEND;TZID=UTC:20231203T200000
DTSTAMP:20260425T120234
CREATED:20231201T181955Z
LAST-MODIFIED:20231201T181956Z
UID:5825-1701619200-1701633600@sumnerstreetshea.com
SUMMARY:Holiday Pop Up
DESCRIPTION:Join us at White Owl Social Club for their holiday pop up market! We’ll be there from 4-8pm! \n21+ event.
URL:https://sumnerstreetshea.com/event/holiday-pop-up/
LOCATION:White Owl Social Club\, 1305 SE 8th Ave\, Portland\, OR\, United States
CATEGORIES:Bar Hop,Free,Pop Up
ATTACH;FMTTYPE=image/jpeg:https://sumnerstreetshea.com/wp-content/uploads/2023/12/4AE60CB3-06C0-410A-892E-9E9343BE87B9.jpg
END:VEVENT
BEGIN:VEVENT
DTSTART;TZID=UTC:20231209T110000
DTEND;TZID=UTC:20231209T160000
DTSTAMP:20260425T120234
CREATED:20231201T182453Z
LAST-MODIFIED:20231201T182454Z
UID:5830-1702119600-1702137600@sumnerstreetshea.com
SUMMARY:Briq Studio Holiday Market
DESCRIPTION:Catch us in Chinatown (Downtown Portland) from 11 am-4 pm at Briq Studio for their holiday market!
URL:https://sumnerstreetshea.com/event/briq-studio-holiday-market/
LOCATION:Briq Studio\, 209 NW 4th Ave\, Portland\, OR\, 97209\, United States
CATEGORIES:Free,Pop Up
END:VEVENT
BEGIN:VEVENT
DTSTART;TZID=UTC:20231216T120000
DTEND;TZID=UTC:20231216T180000
DTSTAMP:20260425T120234
CREATED:20231201T184245Z
LAST-MODIFIED:20231201T184246Z
UID:5834-1702728000-1702749600@sumnerstreetshea.com
SUMMARY:Gigantic Brewing Holiday Makers Market
DESCRIPTION:Join us at Gigantic Brewing Company for their holiday makers market! 15+ local makers showcasing art books\, ceramics\, soap\, jewelry\, paper goods\, and other goods for your holiday shopping! \nThis is a 21+ event.
URL:https://sumnerstreetshea.com/event/gigantic-brewing-holiday-makers-market/
LOCATION:Gigantic Brewing Company\, 5224 SE 26th Ave\, Portland\, OR\, United States
CATEGORIES:Free,Pop Up
ATTACH;FMTTYPE=image/jpeg:https://sumnerstreetshea.com/wp-content/uploads/2023/12/2023Gigantic_Brewing_HolidayMarketSocialMedia_Image.jpg
END:VEVENT
BEGIN:VEVENT
DTSTART;TZID=UTC:20231217T130000
DTEND;TZID=UTC:20231217T180000
DTSTAMP:20260425T120234
CREATED:20231201T200831Z
LAST-MODIFIED:20231201T200832Z
UID:5837-1702818000-1702836000@sumnerstreetshea.com
SUMMARY:NW Portland Makers Market
DESCRIPTION:Join us at Boedecker Cellers Winery on Sunday\, December 17 from 1-6! This is a local makers market held at 2 venues: Boedecker Cellars and Great Notion Brewing.
URL:https://sumnerstreetshea.com/event/nw-portland-makers-market/
LOCATION:Boedecker Cellars Winery\, 2621 NW 30th Ave\, Portland\, OR\, 97210\, United States
CATEGORIES:Bar Hop,Free
ATTACH;FMTTYPE=image/jpeg:https://sumnerstreetshea.com/wp-content/uploads/2023/12/NWPortland-90.jpg
END:VEVENT
BEGIN:VEVENT
DTSTART;TZID=UTC:20231229T170000
DTEND;TZID=UTC:20231229T200000
DTSTAMP:20260425T120234
CREATED:20231217T173741Z
LAST-MODIFIED:20231217T173742Z
UID:5851-1703869200-1703880000@sumnerstreetshea.com
SUMMARY:3rd Annual Kwanzaa Celebration
DESCRIPTION:
URL:https://sumnerstreetshea.com/event/3rd-annual-kwanzaa-celebration/
LOCATION:Tualatin Hills Athletic Center\, 50 NW 158th Ave\, Beaverton\, OR\, United States
CATEGORIES:Free,Pop Up
ATTACH;FMTTYPE=image/jpeg:https://sumnerstreetshea.com/wp-content/uploads/2023/12/2023-Kwanzaa-Flyer-English.jpg
ORGANIZER;CN="Beaverton Black Parent Union":MAILTO:umoja@beavertonblackparentunion.org
END:VEVENT
END:VCALENDAR