BEGIN:VCALENDAR
VERSION:2.0
PRODID:-//Sumner Street Shea - ECPv6.15.20//NONSGML v1.0//EN
CALSCALE:GREGORIAN
METHOD:PUBLISH
X-WR-CALNAME:Sumner Street Shea
X-ORIGINAL-URL:https://sumnerstreetshea.com
X-WR-CALDESC:Events for Sumner Street Shea
REFRESH-INTERVAL;VALUE=DURATION:PT1H
X-Robots-Tag:noindex
X-PUBLISHED-TTL:PT1H
BEGIN:VTIMEZONE
TZID:UTC
BEGIN:STANDARD
TZOFFSETFROM:+0000
TZOFFSETTO:+0000
TZNAME:UTC
DTSTART:20220101T000000
END:STANDARD
END:VTIMEZONE
BEGIN:VEVENT
DTSTART;TZID=UTC:20230513T160000
DTEND;TZID=UTC:20230513T210000
DTSTAMP:20260425T210715
CREATED:20230409T062306Z
LAST-MODIFIED:20230505T170729Z
UID:5514-1683993600-1684011600@sumnerstreetshea.com
SUMMARY:Mother's Day Market
DESCRIPTION:Join us at Bar Carlo for a Mother’s Day Market pop up market! We’ll be at Bar Carlo on May 13 from 4-9 pm.
URL:https://sumnerstreetshea.com/event/mothers-day-market/
LOCATION:Bar Carlo\, 6433 SE Foster Rd\, Portland\, OR\, 97206\, United States
CATEGORIES:Free,Pop Up
ATTACH;FMTTYPE=image/jpeg:https://sumnerstreetshea.com/wp-content/uploads/2023/04/MDMfinal2-1.jpg
END:VEVENT
BEGIN:VEVENT
DTSTART;TZID=UTC:20230521T110000
DTEND;TZID=UTC:20230521T160000
DTSTAMP:20260425T210715
CREATED:20230430T171101Z
LAST-MODIFIED:20230430T171914Z
UID:5545-1684666800-1684684800@sumnerstreetshea.com
SUMMARY:Black Parent Initiative Presents "Black Marketplace"
DESCRIPTION:Join us on Saturday May 21 from 11-4pm! There will be local vendors\, panel discussions\, prizes and activities!
URL:https://sumnerstreetshea.com/event/black-parent-initiative-presents-black-marketplace/
LOCATION:The Center Powered by Y.O.U.TH\, 16126 SE Stark St\, Portland\, OR\, United States
CATEGORIES:Free,Pop Up
ATTACH;FMTTYPE=application/pdf:https://sumnerstreetshea.com/wp-content/uploads/2023/04/BPI_BlackMarketplace_Flyer_V5.pdf
ORGANIZER;CN="Black Parent Initiative":MAILTO:info@thebpi.org
END:VEVENT
END:VCALENDAR